BEGIN:VCALENDAR
VERSION:2.0
PRODID:-//Valdinievole Turismo - ECPv6.7.1//NONSGML v1.0//EN
CALSCALE:GREGORIAN
METHOD:PUBLISH
X-ORIGINAL-URL:https://valdinievoleturismo.it/en/
X-WR-CALDESC:Events for Valdinievole Turismo
REFRESH-INTERVAL;VALUE=DURATION:PT1H
X-Robots-Tag:noindex
X-PUBLISHED-TTL:PT1H
BEGIN:VTIMEZONE
TZID:Europe/Rome
BEGIN:DAYLIGHT
TZOFFSETFROM:+0100
TZOFFSETTO:+0200
TZNAME:CEST
DTSTART:20250330T010000
END:DAYLIGHT
BEGIN:STANDARD
TZOFFSETFROM:+0200
TZOFFSETTO:+0100
TZNAME:CET
DTSTART:20251026T010000
END:STANDARD
END:VTIMEZONE
BEGIN:VEVENT
DTSTART;TZID=Europe/Rome:20251031T210000
DTEND;TZID=Europe/Rome:20251031T210000
DTSTAMP:20260421T234757
CREATED:20250709T150745Z
LAST-MODIFIED:20250709T154757Z
UID:18156-1761944400-1761944400@valdinievoleturismo.it
SUMMARY:Young Frankenstein - The Musical
DESCRIPTION:On the stage of Teatro Verdi in Montecatini Terme\, on Friday\, October 31\, 2025\, at 9 PM\, Young Frankenstein – The Musical will be performed. \nA musical adaptation of the iconic Mel Brooks film\, featuring gothic atmospheres enriched by irresistible comedy and spectacular numbers in true Broadway style. \nPresented by the Theatre Company of the Geko. \nDetails\nVIP Front Row €34.50\nVIP Front Row (Under 10) €27.60\nPremium Seat €28.75\nPremium Seat (Under 10) €23\nStandard Seat €28.75\nStandard Seat (Under 10) €23 \nBuy tickets online \nInfo\nTeatro Verdi
URL:https://valdinievoleturismo.it/en/event/young-frankenstein-the-musical/
LOCATION:Verdi Theater\, Verdi Avenue\, 45\, Montecatini\, 51016\, Italia
ATTACH;FMTTYPE=image/jpeg:https://valdinievoleturismo.it/wp-content/uploads/2025/07/Compagnia-del-Geko-scaled.jpg
END:VEVENT
END:VCALENDAR