BEGIN:VCALENDAR
VERSION:2.0
PRODID:-//Valdinievole Turismo - ECPv6.7.1//NONSGML v1.0//EN
CALSCALE:GREGORIAN
METHOD:PUBLISH
X-WR-CALNAME:Valdinievole Turismo
X-ORIGINAL-URL:https://valdinievoleturismo.it/en/
X-WR-CALDESC:Events for Valdinievole Turismo
REFRESH-INTERVAL;VALUE=DURATION:PT1H
X-Robots-Tag:noindex
X-PUBLISHED-TTL:PT1H
BEGIN:VTIMEZONE
TZID:Europe/Rome
BEGIN:DAYLIGHT
TZOFFSETFROM:+0100
TZOFFSETTO:+0200
TZNAME:CEST
DTSTART:20240331T010000
END:DAYLIGHT
BEGIN:STANDARD
TZOFFSETFROM:+0200
TZOFFSETTO:+0100
TZNAME:CET
DTSTART:20241027T010000
END:STANDARD
BEGIN:DAYLIGHT
TZOFFSETFROM:+0100
TZOFFSETTO:+0200
TZNAME:CEST
DTSTART:20250330T010000
END:DAYLIGHT
BEGIN:STANDARD
TZOFFSETFROM:+0200
TZOFFSETTO:+0100
TZNAME:CET
DTSTART:20251026T010000
END:STANDARD
END:VTIMEZONE
BEGIN:VEVENT
DTSTART;VALUE=DATE:20241204
DTEND;VALUE=DATE:20251103
DTSTAMP:20260421T035102
CREATED:20241212T143226Z
LAST-MODIFIED:20241212T143226Z
UID:14241-1733270400-1762127999@valdinievoleturismo.it
SUMMARY:Joan Miró in Montecatini Terme
DESCRIPTION:The Galleria Civica Mo.C.A. – Montecatini Contemporary Art has housed Dona Voltada d’un Vol d’Ocells in its permanent collection since its opening in 2012. This piece is one of the five largest works in the world created by the painter Joan Miró. \nFrom December 4\, 2024\, to June 29\, 2025\, the gallery pays tribute to the master with the exhibition Joan Miró in Montecatini Terme. \nThe exhibition tells the fascinating story behind the creation of this artwork\, specifically conceived for the city of Montecatini in 1980 as part of Maggio Miró\, the largest cultural event ever organized in Montecatini\, envisioned by Carlos Franqui. \nThe exhibition delves into these events\, which involved numerous international artists who created works inspired by the figure and legacy of the great surrealist. It also reveals why Miró\, the eagerly anticipated guest of honor\, was never able to visit the city. \nThe show features works by painters from around the world\, alongside a selection of Miró’s lithographs\, autographed documents by the Master\, photographs\, posters\, and other unpublished material made available by private collectors and the heirs of those who participated in the event. \nThe exhibition also offers an opportunity to celebrate the 45th anniversary of the presence of Miró’s Woman (Dona Voltada d’un Vol d’Ocells) in Montecatini. \nClick here for the flyer.\nFree entry. \nOpening Hours\nTue–Fri: 10 AM–12 PM\nSat\, Sun\, and holidays: 10:30 AM–12:30 PM and 3:30 PM–6:30 PM\nClosed on Mondays \nInfo\nGalleria Civica Mo.C.A. – Montecatini Contemporary Art
URL:https://valdinievoleturismo.it/en/event/joan-miro-in-montecatini-terme/
LOCATION:Mo.C.A. – Montecatini Terme Contemporary Art\, Giuseppe Verdi Avenue\, Montecatini Terme\, 51016
ATTACH;FMTTYPE=image/png:https://valdinievoleturismo.it/wp-content/uploads/2024/11/manifesto-senza-Mic.png
END:VEVENT
BEGIN:VEVENT
DTSTART;VALUE=DATE:20250126
DTEND;VALUE=DATE:20251229
DTSTAMP:20260421T035102
CREATED:20250115T104509Z
LAST-MODIFIED:20250115T104554Z
UID:14748-1737849600-1766966399@valdinievoleturismo.it
SUMMARY:Pescia Antiqua
DESCRIPTION:Every fourth Sunday of the month\, don’t miss Pescia Antiqua\, the traditional event dedicated to antiques\, craftsmanship\, collecting\, and vintage items. \nPescia Antiqua is an initiative produced by the cultural association Pinocchio 3000 in collaboration with the Department of Productive Activities of the Municipality of Pescia. \nInfo\nToscana Quando
URL:https://valdinievoleturismo.it/en/event/pescia-antiqua-2025/
LOCATION:Pescia\, Pescia\, 51017
ATTACH;FMTTYPE=image/jpeg:https://valdinievoleturismo.it/wp-content/uploads/2024/01/pescia-antiqua-2-e1707983468177.jpg
END:VEVENT
BEGIN:VEVENT
DTSTART;VALUE=DATE:20250208
DTEND;VALUE=DATE:20250908
DTSTAMP:20260421T035102
CREATED:20250401T143324Z
LAST-MODIFIED:20250401T143324Z
UID:16130-1738972800-1757289599@valdinievoleturismo.it
SUMMARY:Two Centuries of Drawing
DESCRIPTION:From Saturday\, February 8\, to Monday\, June 2\, 2025\, the Gipsoteca Libero Andreotti hosts the exhibition Two Centuries of Drawing. Works from the Civic Collections of Pescia\, with scientific curation by Claudia Massi and Livia Fasolo. The exhibition and related initiatives are organized by the Pistoia Museum System – SIMUP. \nThe exhibition showcases recently rediscovered drawings\, offering an overview of the art of drawing through the works of four artists born in Pescia: Alberico Carlini (1703–1777)\, Innocenzo Ansaldi (1734–1816)\, Luigi Norfini (1825–1909)\, and Libero Andreotti (1875–1933). \nTrained in Italy and abroad (Andreotti)\, these artists left a significant artistic legacy in their hometown\, preserved in albums\, sheets\, and drawings of great value. Pescia’s collections offer unique testimonies\, particularly for Carlini and Ansaldi\, while providing the most extensive holdings of works by Norfini and Andreotti. \nThe exhibition includes preparatory studies and independent works by Andreotti and stems from the research of Simona Lunatici\, who cataloged over a thousand of his drawings and other works from the Civic Museum\, soon to be included in the general catalog of cultural heritage. \nClick here for the brochure. \nThe exhibition and its initiatives are supported by the Tuscany Region as part of the 2024 Museum Systems grant. \nOpening Hours\nTuesday & Thursday: 10 AM – 12.30 PM / 3 PM – 5.30 PM\nSaturday & Sunday: 3.30 PM – 6.30 PM \nInfo\nCittà di Pescia\ncultura@comune.pescia.pt.it \nPhoto credit: Mennonna
URL:https://valdinievoleturismo.it/en/event/two-centuries-of-drawing/
LOCATION:Gipsoteca Libero Andreotti\, Piazza del Palagio\, 7\, Pescia\, 51017
ATTACH;FMTTYPE=image/jpeg:https://valdinievoleturismo.it/wp-content/uploads/2025/01/3-Pescia_gipsoAndreotti_ph-Mennonna-7669s.jpg
END:VEVENT
BEGIN:VEVENT
DTSTART;VALUE=DATE:20250208
DTEND;VALUE=DATE:20250908
DTSTAMP:20260421T035102
CREATED:20250401T144701Z
LAST-MODIFIED:20250401T144701Z
UID:16132-1738972800-1757289599@valdinievoleturismo.it
SUMMARY:The Treasure of Maria SS. della Fontenuova
DESCRIPTION:From Saturday\, February 8\, to Monday\, June 2\, 2025\, at the Museum of the City and Territory of Monsummano Terme\, discover the exhibition The Treasure of Maria SS. della Fontenuova. History of a Centuries-Old Devotion\, curated by Silvia Di Paolo. The exhibition and related initiatives are organized by the Pistoia Museum System – SIMUP. \nThe exhibition focuses on the treasure of the Church of Maria SS. della Fontenuova\, partially displayed at the Museum of the City and Territory. This collection of offerings reflects the deep bond between the sanctuary and its devotees\, including gifts from both rulers and common people. Highlights include a grand ducal crown in gold and precious stones\, symbolizing the Medici family\, as well as modest silver icons and wooden plaques. \nEach piece tells a story of faith and a historical connection to the sanctuary\, which dates back to June 9\, 1573. \nClick here for the brochure. \nThe exhibition and its initiatives are supported by the Tuscany Region as part of the 2024 Museum Systems grant. \nOpening Hours\nMonday\, Wednesday\, and Friday: 9 AM – 1 PM \nTuesday and Thursday: 9 AM – 1 PM / 3.30 PM – 5.30 PM (4 PM – 6 PM starting March 30) \nSaturday: 9 AM – 12 PM \nSpecial holiday openings \nInfo\nMuseo della Città e del Territorio\nmuseoterritorio@comune.monsummano-terme.pt.it \nPhoto credit: Museo della Citta e del Territorio Facebook
URL:https://valdinievoleturismo.it/en/event/the-treasure-of-maria-ss-della-fontenuova/
LOCATION:Museo della Città e del Territorio\, Piazza Ferdinando Martini 1\, Monsummano Terme\, 51015
ATTACH;FMTTYPE=image/jpeg:https://valdinievoleturismo.it/wp-content/uploads/2024/01/Museo-della-Citta-e-del-Territorio-Facebook-860x575-1.jpg
END:VEVENT
BEGIN:VEVENT
DTSTART;TZID=Europe/Rome:20250929T210000
DTEND;TZID=Europe/Rome:20250929T210000
DTSTAMP:20260421T035102
CREATED:20250630T142017Z
LAST-MODIFIED:20250630T142017Z
UID:17977-1759179600-1759179600@valdinievoleturismo.it
SUMMARY:The Music of Hans Zimmer at Teatro Verdi
DESCRIPTION:Monday\, September 29\, 2025\, at 9 PM\, the concert The Music of Hans Zimmer – Live Orchestra will take place at Teatro Verdi in Montecatini Terme. \nProduced by Vigna PR and Concerto Music. \nWith four Grammy Awards\, two Oscars\, three Golden Globes and a Brit Award\, Hans Zimmer is among the most influential composers of our time. His soundtracks have marked the history of cinema. \nThe symphonic show The Music of Hans Zimmer celebrates the genius of the composer in a fairytale atmosphere\, enriched by evocative visual effects. The stars of the event are Lords of the Sound\, the Kyiv Symphony Orchestra\, one of the most acclaimed in Europe\, performing live unforgettable pieces from films such as Dune\, Interstellar\, Gladiator\, Pirates of the Caribbean\, Inception\, Mission Impossible\, Wonder Woman and many more. \nDetails\nPoltronissima VIP €74.75\nPoltronissima €67.85\nPoltrona €56.35\nPoltroncina €44.85\nTribuna VIP €74.75 \nBuy tickets online \nInfozimm\nTeatro Verdi
URL:https://valdinievoleturismo.it/en/event/the-music-of-hans-zimmer-at-teatro-verdi-september-29-2025/
LOCATION:Verdi Theater\, Verdi Avenue\, 45\, Montecatini\, 51016\, Italia
ATTACH;FMTTYPE=image/jpeg:https://valdinievoleturismo.it/wp-content/uploads/2024/10/orchestra-musica-concerto.jpg
END:VEVENT
BEGIN:VEVENT
DTSTART;TZID=Europe/Rome:20251017T210000
DTEND;TZID=Europe/Rome:20251017T210000
DTSTAMP:20260421T035102
CREATED:20250630T142336Z
LAST-MODIFIED:20250630T142336Z
UID:17980-1760734800-1760734800@valdinievoleturismo.it
SUMMARY:Hairspray. The Broadway Musical
DESCRIPTION:Friday\, October 17\, 2025\, at 9 PM\, at Teatro Verdi in Montecatini Terme\, Hairspray – The Broadway Musical. \nSet in early 1960s Baltimore\, during a time of tension between conservatives and progressives fighting for racial integration\, this musical brings dance and music to the forefront\, capturing a spirit of rebellion and a desire to express the core values of democracy. \nThe story follows Tracy Turnblad\, a cheerful and talented young dancer with a big dream: to become part of the Corny Collins Show\, the most popular TV program among Baltimore’s youth. \nWhen one of the dancers leaves the show\, the producers begin searching for a fresh new face. Despite several obstacles\, Tracy makes it onto the show\, finds true love\, and fights for the integration of her friends\, who have been forced to dance in a segregated part of the program. \nDetails\nVIP Stalls: €40\nStalls: €35\nOrchestra Seats: €30\nBalcony Seats: €28.75 \nBuy tickets online \nInfo\nTeatro Verdi
URL:https://valdinievoleturismo.it/en/event/hairspray-the-broadway-musical/
LOCATION:Verdi Theater\, Verdi Avenue\, 45\, Montecatini\, 51016\, Italia
ATTACH;FMTTYPE=image/jpeg:https://valdinievoleturismo.it/wp-content/uploads/2024/01/TRACY-PENNY.jpg
END:VEVENT
BEGIN:VEVENT
DTSTART;TZID=Europe/Rome:20251024T210000
DTEND;TZID=Europe/Rome:20251024T210000
DTSTAMP:20260421T035102
CREATED:20250630T142934Z
LAST-MODIFIED:20250630T142934Z
UID:17982-1761339600-1761339600@valdinievoleturismo.it
SUMMARY:Footloose – The Musical
DESCRIPTION:On Friday\, October 24\, 2025\, at 9 PM\, the stage of Teatro Verdi in Montecatini Terme will host Footloose – The Musical. \nAn emotional journey through the streets of Bomont\, a town where music and dancing are forbidden. But the arrival of young Ren changes everything\, sparking a revolution powered by rock and the thirst for freedom. \nWith spectacular choreography\, iconic ’80s hits\, and a youthful\, rebellious love story\, Footloose is a powerful anthem to living life fully\, breaking down prejudice\, and dancing—because “this is our time to dance.” \nDetails\nVIP Stalls: €40.25\nStalls: €34.50\nOrchestra Seats: €28.75\nBalcony Seats: €23 \nBuy tickets online \nInfo\nTeatro Verdi
URL:https://valdinievoleturismo.it/en/event/footloose-the-musical/
LOCATION:Verdi Theater\, Verdi Avenue\, 45\, Montecatini\, 51016\, Italia
ATTACH;FMTTYPE=image/jpeg:https://valdinievoleturismo.it/wp-content/uploads/2024/03/danza-ballo-moderno.jpg
END:VEVENT
BEGIN:VEVENT
DTSTART;TZID=Europe/Rome:20251026T203000
DTEND;TZID=Europe/Rome:20251026T203000
DTSTAMP:20260421T035102
CREATED:20250709T144522Z
LAST-MODIFIED:20250709T144522Z
UID:18148-1761510600-1761510600@valdinievoleturismo.it
SUMMARY:Joe Bastianich at Teatro Verdi
DESCRIPTION:Sunday\, October 26\, 2025\, at 8.30 PM\, grand entrance on the stage of Teatro Verdi in Montecatini Terme by Joe Bastianich with Money – The Balance of a Life. \nA theatrical performance in which Joe Bastianich\, Italian-American entrepreneur\, tells his personal and professional story through ironic moments and deeply emotional passages. \nTickets\nVIP Front Row: €46\nPremium Seat: €46\nStandard Seat: €34.50\nBalcony Seat: €28.50 \nBuy tickets online \nInfo\nTeatro Verdi \nPhoto credit: Joe Bastianich Facebook
URL:https://valdinievoleturismo.it/en/event/joe-bastianich-at-teatro-verdi/
LOCATION:Verdi Theater\, Verdi Avenue\, 45\, Montecatini\, 51016\, Italia
ATTACH;FMTTYPE=image/jpeg:https://valdinievoleturismo.it/wp-content/uploads/2025/07/Joe-Bastianich-Facebook.jpg
END:VEVENT
BEGIN:VEVENT
DTSTART;TZID=Europe/Rome:20251031T210000
DTEND;TZID=Europe/Rome:20251031T210000
DTSTAMP:20260421T035102
CREATED:20250709T150745Z
LAST-MODIFIED:20250709T154757Z
UID:18156-1761944400-1761944400@valdinievoleturismo.it
SUMMARY:Young Frankenstein - The Musical
DESCRIPTION:On the stage of Teatro Verdi in Montecatini Terme\, on Friday\, October 31\, 2025\, at 9 PM\, Young Frankenstein – The Musical will be performed. \nA musical adaptation of the iconic Mel Brooks film\, featuring gothic atmospheres enriched by irresistible comedy and spectacular numbers in true Broadway style. \nPresented by the Theatre Company of the Geko. \nDetails\nVIP Front Row €34.50\nVIP Front Row (Under 10) €27.60\nPremium Seat €28.75\nPremium Seat (Under 10) €23\nStandard Seat €28.75\nStandard Seat (Under 10) €23 \nBuy tickets online \nInfo\nTeatro Verdi
URL:https://valdinievoleturismo.it/en/event/young-frankenstein-the-musical/
LOCATION:Verdi Theater\, Verdi Avenue\, 45\, Montecatini\, 51016\, Italia
ATTACH;FMTTYPE=image/jpeg:https://valdinievoleturismo.it/wp-content/uploads/2025/07/Compagnia-del-Geko-scaled.jpg
END:VEVENT
END:VCALENDAR