BEGIN:VCALENDAR
VERSION:2.0
PRODID:-//Valdinievole Turismo - ECPv6.7.1//NONSGML v1.0//EN
CALSCALE:GREGORIAN
METHOD:PUBLISH
X-WR-CALNAME:Valdinievole Turismo
X-ORIGINAL-URL:https://valdinievoleturismo.it/en/
X-WR-CALDESC:Events for Valdinievole Turismo
REFRESH-INTERVAL;VALUE=DURATION:PT1H
X-Robots-Tag:noindex
X-PUBLISHED-TTL:PT1H
BEGIN:VTIMEZONE
TZID:Europe/Rome
BEGIN:DAYLIGHT
TZOFFSETFROM:+0100
TZOFFSETTO:+0200
TZNAME:CEST
DTSTART:20230326T010000
END:DAYLIGHT
BEGIN:STANDARD
TZOFFSETFROM:+0200
TZOFFSETTO:+0100
TZNAME:CET
DTSTART:20231029T010000
END:STANDARD
BEGIN:DAYLIGHT
TZOFFSETFROM:+0100
TZOFFSETTO:+0200
TZNAME:CEST
DTSTART:20240331T010000
END:DAYLIGHT
BEGIN:STANDARD
TZOFFSETFROM:+0200
TZOFFSETTO:+0100
TZNAME:CET
DTSTART:20241027T010000
END:STANDARD
BEGIN:DAYLIGHT
TZOFFSETFROM:+0100
TZOFFSETTO:+0200
TZNAME:CEST
DTSTART:20250330T010000
END:DAYLIGHT
BEGIN:STANDARD
TZOFFSETFROM:+0200
TZOFFSETTO:+0100
TZNAME:CET
DTSTART:20251026T010000
END:STANDARD
END:VTIMEZONE
BEGIN:VEVENT
DTSTART;VALUE=DATE:20241231
DTEND;VALUE=DATE:20250101
DTSTAMP:20260422T012358
CREATED:20241212T150535Z
LAST-MODIFIED:20241212T150535Z
UID:14251-1735603200-1735689599@valdinievoleturismo.it
SUMMARY:New Year's Eve in Montecatini Terme 2025
DESCRIPTION:On Tuesday\, December 31\, 2024\, the city of Montecatini Terme will bid farewell to the old year and welcome 2025 with a night of celebration and fun in the picturesque setting of Piazza del Popolo. The event\, organized to engage both locals and tourists\, will feature the Big party of Radio Mitology\, a celebration filled with music and energy. \nThe square will be transformed into a large stage for a musical journey through the iconic 70s and 80s\, with DJ sets curated by Fabio Lenzi. On stage\, Marco Barsanti\, known as Barsa Mc\, will guide the audience through the evening as the host. \nEnhancing the show\, the iconic Ragazze in Vinile and dynamic Go Go Girls will bring the stage to life with their choreography and energy\, creating an engaging experience that will animate both the stage and the entire square. \nThe event is free to attend\, an open invitation for everyone who wants to share the excitement of this special occasion with friends\, family\, and visitors. \nMontecatini Terme\, with its timeless charm\, offers the perfect setting to end 2024 and begin the new year with music\, togetherness\, and joy. \nInfo\nRadio Mitology 70-80
URL:https://valdinievoleturismo.it/en/event/new-years-eve-in-montecatini-terme-2025/
LOCATION:Piazza del Popolo\, Piazza del Popolo\, Montecatini Terme\, 51016
ATTACH;FMTTYPE=image/jpeg:https://valdinievoleturismo.it/wp-content/uploads/2024/12/Montecatini-Terme-sera-Piazza-del-Popolo.jpeg
END:VEVENT
BEGIN:VEVENT
DTSTART;VALUE=DATE:20241201
DTEND;VALUE=DATE:20250106
DTSTAMP:20260422T012358
CREATED:20241212T142631Z
LAST-MODIFIED:20241212T152006Z
UID:14239-1733011200-1736121599@valdinievoleturismo.it
SUMMARY:Christmas with the Montecatini Funicular
DESCRIPTION:As per tradition\, during the Christmas season weekends\, the Funicular connecting Montecatini Terme to Montecatini Alto opens exceptionally\, offering a unique experience with breathtaking views and the magical holiday atmosphere. \nSince 1898\, the historic carriages Gigio and Gigia have been taking visitors on a journey of approximately 1 km\, completed in just 8 minutes and 30 seconds. \nDetails\nEvery Saturday and Sunday in December: 10 AM–1 PM and 2 PM–7 PM.\nAdditional rides on December 24\, 26\, 31\, and January 1\, 4\, and 5\, 2025.\nRides will take place weather permitting. \nInfo\nMontecatini Funicular
URL:https://valdinievoleturismo.it/en/event/christmas-with-the-montecatini-funicular-2024/
LOCATION:Funicolare di Montecatini Terme\, Viale Armando Diaz 22\, Montecatini Terme\, 51016
ATTACH;FMTTYPE=image/jpeg:https://valdinievoleturismo.it/wp-content/uploads/2024/11/Funicolare-di-Montecatini-Terme-Facebook-e1734016800519.jpg
END:VEVENT
BEGIN:VEVENT
DTSTART;TZID=Europe/Rome:20241011T211500
DTEND;TZID=Europe/Rome:20241011T211500
DTSTAMP:20260422T012358
CREATED:20240917T150326Z
LAST-MODIFIED:20240917T160132Z
UID:12301-1728681300-1728681300@valdinievoleturismo.it
SUMMARY:Tribute to the 3 Tenors
DESCRIPTION:As part of the 26th edition of the Montecatini Opera Festival\, on Friday\, October 11\, 2024\, at 9:15 PM\, Tribute to the 3 Tenors will take place. \nA musical journey through time to remember the legendary event featuring Luciano Pavarotti\, José Carreras\, and Plácido Domingo at the Baths of Caracalla in 1990. \nOn stage\, three outstanding tenors with versatile vocal abilities and brilliant communication skills will bring back to life the emotions of that unforgettable night of July 7\, 34 years ago. \nAlessandro Fantoni – Tenor\nNicola Mugnaini – Tenor\nHaruo Kawakami – Tenor\nAngela Panieri – Piano \nDetails\nTickets are on presale at Terme Tettuccio in the 3 days leading up to each concert\, from 10 AM to 12 PM\, and on the day of the concert\, starting from 6 PM. \nInfo\nMontecatini Opera Festival
URL:https://valdinievoleturismo.it/en/event/tribute-to-the-3-tenors-11-october-2024/
LOCATION:Stabilimento Terme Tettuccio\, Piazza Domenico Giusti\, Montecatini Terme\, 51016
ATTACH;FMTTYPE=image/jpeg:https://valdinievoleturismo.it/wp-content/uploads/2024/06/2.Omaggio-a-I-Tre-Tenori-1-1-e1726586045898.jpg
END:VEVENT
BEGIN:VEVENT
DTSTART;TZID=Europe/Rome:20241004T211500
DTEND;TZID=Europe/Rome:20241004T211500
DTSTAMP:20260422T012358
CREATED:20240917T155804Z
LAST-MODIFIED:20240917T160323Z
UID:12317-1728076500-1728076500@valdinievoleturismo.it
SUMMARY:The Queens of the Night
DESCRIPTION:As part of the 26th edition of the Montecatini Opera Festival\, on Friday\, October 4\, 2024\, at 9:15 PM\, at Terme Tettuccio\, the concert Le regine della notte – The Queens of the Night will take place. \nThis trio\, composed of three beautiful and young singers—two sopranos and one mezzo-soprano—has individually graced famous international stages. The concert promises to be engaging and refined\, rich in nuances\, but with a common thread: seductive harmonies capable of captivating any audience. \nAnastassiya Kozhukarova\, soprano\nVittoria Licostini\, soprano\nEleonora Filipponi\, mezzo-soprano\nChiara Mariani\, piano \nFeaturing music by Verdi\, Mozart\, Puccini\, Bizet\, Offenbach\, Arlen\, Gershwin\, and Mancini. \nDetails\nTickets on presale at Terme Tettuccio in the 3 days leading up to each concert\, from 10 AM to 12 PM\, and on the day of the concert\, starting at 6 PM. \nInfo\nMontecatini Opera Festival
URL:https://valdinievoleturismo.it/en/event/the-queens-of-the-night-4-october-2024/
LOCATION:Stabilimento Terme Tettuccio\, Piazza Domenico Giusti\, Montecatini Terme\, 51016
ATTACH;FMTTYPE=image/jpeg:https://valdinievoleturismo.it/wp-content/uploads/2024/07/Le-Regine-della-notte.jpg
END:VEVENT
BEGIN:VEVENT
DTSTART;TZID=Europe/Rome:20240927T211500
DTEND;TZID=Europe/Rome:20240927T211500
DTSTAMP:20260422T012358
CREATED:20240917T155459Z
LAST-MODIFIED:20240917T160144Z
UID:12315-1727471700-1727471700@valdinievoleturismo.it
SUMMARY:Flowers from the Steppes
DESCRIPTION:As part of the 26th edition of the Montecatini Opera Festival\, on Friday\, September 27\, 2024\, at 9:15 PM\, at Terme Tettuccio\, a concert featuring the Kazakh soprano Anastassiya Khozukharova will take place. A performer known for her grace and elegance\, as well as her solid and refined technique. \nAnastassiya Khozukharova\, soprano\nAlessandro Fantoni\, tenor\nRoberto Corlianò\, piano\nGabriele Nani\, baritone \nFeaturing music by Verdi\, Donizetti\, Puccini\, Bizet\, Korlan\, Leoncavallo\, Gershwin\, and Di Capua. \nDetails\nTickets on presale at Terme Tettuccio in the 3 days leading up to each concert\, from 10 AM to 12 PM\, and on the day of the concert\, starting at 6 PM. \nInfo\nMontecatini Opera Festival
URL:https://valdinievoleturismo.it/en/event/flowers-from-the-steppes-27-september-2024/
LOCATION:Stabilimento Terme Tettuccio\, Piazza Domenico Giusti\, Montecatini Terme\, 51016
ATTACH;FMTTYPE=image/jpeg:https://valdinievoleturismo.it/wp-content/uploads/2024/07/Anastassiya-Khozukharova.jpg
END:VEVENT
BEGIN:VEVENT
DTSTART;VALUE=DATE:20240922
DTEND;VALUE=DATE:20241223
DTSTAMP:20260422T012359
CREATED:20240917T150831Z
LAST-MODIFIED:20240917T151616Z
UID:12303-1726963200-1734911999@valdinievoleturismo.it
SUMMARY:Pescia Antiqua 2024
DESCRIPTION:Every fourth Sunday of the month\, don’t miss Pescia Antiqua\, the traditional event dedicated to antiques\, crafts\, collectables\, and vintage items.\n\n\n\n\n\n\n\n\n\nThis initiative is organized by the cultural association Pinocchio 3000 in collaboration with the Department of Productive Activities of the Municipality of Pescia. \nUpcoming dates\n\n\n\n\n\n\nSunday\, September 22 \nSunday\, October 27 \nSunday\, November 24 \nSunday\, Dicember 22 \nInfo\nToscana Quando
URL:https://valdinievoleturismo.it/en/event/pescia-antiqua-2024/
LOCATION:Pescia\, Pescia\, 51017
ATTACH;FMTTYPE=image/jpeg:https://valdinievoleturismo.it/wp-content/uploads/2024/01/pescia-antiqua-1-e1726586167927.jpg
END:VEVENT
BEGIN:VEVENT
DTSTART;VALUE=DATE:20240919
DTEND;VALUE=DATE:20241111
DTSTAMP:20260422T012359
CREATED:20240917T150000Z
LAST-MODIFIED:20240917T150000Z
UID:12299-1726704000-1731283199@valdinievoleturismo.it
SUMMARY:-Òide by Serena Gallorini
DESCRIPTION:At the POMA Liberatutti Foundation in Pescia\, from Thursday\, September 19 to Sunday\, November 10\, 2024\, the exhibition -Òide by photographer Serena Gallorini will take place. \nThe exhibition will be inaugurated on Thursday\, September 19\, at 6:30 PM\, in the presence of the artist\, art historian Paolo Vitali (author of the catalog’s critical text)\, honorary president Rita Fantozzi\, president Paolo Trinci\, members of the Foundation’s Board of Directors\, and the curator of the POMA Liberatutti Foundation\, Marta Convalle. \n-Òide is a suffix derived from the Greek -οειδής and means “similar to.” We still find it today in many compound words of Greek origin (such as adenoid\, anthropoid\, rhomboid). The suffix generally indicates a similarity in shape\, appearance\, nature\, or a relation\, analogy\, or affinity with the object it refers to. \nThrough 23 photographic works\, shot in the area of the former Officine Celli in Pescia\, Serena Gallorini takes the viewer into the intimacy and solitude necessary to embark on their own -òide. \nThe exhibition is accompanied by a bilingual catalog (Italian/English)\, published by the POMA Liberatutti Foundation in the PomArte series. The catalog\, curated by Marta Convalle\, includes a preface by Paolo Trinci\, a critical text by Paolo Vitali\, and a rich iconographic apparatus. The volume will be presented to the public on the day of the exhibition’s inauguration and will be available for purchase at the Foundation or by contacting the office at +39 0572 1770011. \nDetails\nFree admission.\nNo reservation required.\nOpening hours: Wed-Sat 10 AM-12:30 PM and 3:30 PM-10 PM | Sun 10 AM-12:30 PM and 5:30 PM-10 PM \n\nInfo\nFondazione POMA Liberatutti\ninfo@pomaliberatutti.it
URL:https://valdinievoleturismo.it/en/event/oide-by-serena-gallorini/
LOCATION:Fondazione POMA Liberatutti\, Piazza San Francesco 12\, Pescia\, 51017
ATTACH;FMTTYPE=image/jpeg:https://valdinievoleturismo.it/wp-content/uploads/2024/09/oI_ide_2.jpg
END:VEVENT
BEGIN:VEVENT
DTSTART;VALUE=DATE:20240829
DTEND;VALUE=DATE:20241111
DTSTAMP:20260422T012359
CREATED:20240917T145546Z
LAST-MODIFIED:20240917T151252Z
UID:12295-1724889600-1731283199@valdinievoleturismo.it
SUMMARY:Sotto pelle - Exhibition by Laura Corre
DESCRIPTION:From August 29 to October 20\, at CUM VENIO – Casa Studio Galleria\, Sotto pelle\, a solo exhibition by Laura Corre. \nThe exhibition unfolds through the various research and insights that have characterized the artistic journey of the Valdinievola-based artist in recent years. The central theme of Laura’s work is the woman in her entirety and complexity: physical and psychological identity\, unity and fragmentation\, moving and clashing with a pressuring and competitive society that seeks to confine her to outdated stereotypes. \nIn addition to recent works from the Under the Skin series\, pieces from the cycles Il trucco sbaffato\, IG girls\, #quellache\, Self-Portraits\, and Self/non-self will be exhibited. \nDetails\nInauguration: Thursday\, August 29\, 2024\, at 9 PM.\nFinissage: Sunday\, October 20\, 2024\, from 5 PM.\nFree entry. \nThe exhibition will remain open until October 20\, 2024. \nOpening hours: Monday to Friday 10 AM–12:30 PM / 4 PM–7 PM.\nSunday from 5 PM to 7 PM.\nOn September 5\, 12\, 13\, 14\, and 15\, the exhibition will also be open from 9 PM to midnight. \nInfo\nCVM VENIO – Casa Studio Galleria\n+39 348 3885267 (Elena)\ncvmveniolarciano@gmail.com
URL:https://valdinievoleturismo.it/en/event/sotto-pelle-exhibition-by-laura-corre/
LOCATION:CUM Venio – Casa Studio Gallery\, Piazza Quattro Martiri 43\, San Rocco\, Larciano\, 51036
ATTACH;FMTTYPE=image/jpeg:https://valdinievoleturismo.it/wp-content/uploads/2024/08/prendi-un-altro-pezzetto-del-mio-cuore_60x70_-2024-LAURA-CORRE-1.jpg
END:VEVENT
BEGIN:VEVENT
DTSTART;VALUE=DATE:20240519
DTEND;VALUE=DATE:20241125
DTSTAMP:20260422T012359
CREATED:20240917T145047Z
LAST-MODIFIED:20241018T103545Z
UID:12292-1716076800-1732492799@valdinievoleturismo.it
SUMMARY:Territory on Display: A Thirty-Year History
DESCRIPTION:Until Sunday\, November 24\, 2024\, at the Museum of the City and Territory in Monsummano Terme\, discover Territory on Display: A Thirty-Year History\, an exhibition curated by Giuseppina Carla Romby. \nThe exhibition highlights the milestones of a research journey conducted in the local area\, also involving archival sources. Understanding the past is crucial to comprehend the changes in our land over the centuries\, future improvements\, and who we are today. \nClick here for the poster. \nDetails\nSummer hours: Mon\, Wed\, Fri 9 AM – 1 PM | Wed\, Thu 9 AM – 1 PM and 4 PM – 6 PM | Sat 9 AM – 12 PM\nWinter hours: Mon\, Wed\, Fri 9 AM – 1 PM | Wed\, Thu 9 AM – 1 PM and 3:30 PM – 5:30 PM | Sat 9 AM – 12 PM \nThe exhibition and events are free and open to the public.\nAll events will be followed by a visit to the exhibition.\nThe museum is accessible to visitors with mobility difficulties. \nInfo\nMuseo della città e del territorio\nmuseoterritorio@comune.monsummano-terme.pt.it\n+39 0572 95446
URL:https://valdinievoleturismo.it/en/event/territory-on-display-a-thirty-year-history/
LOCATION:Museo della Città e del Territorio\, Piazza Ferdinando Martini 1\, Monsummano Terme\, 51015
ATTACH;FMTTYPE=image/jpeg:https://valdinievoleturismo.it/wp-content/uploads/2024/05/territorio-mostra.jpg
END:VEVENT
BEGIN:VEVENT
DTSTART;VALUE=DATE:20240309
DTEND;VALUE=DATE:20241111
DTSTAMP:20260422T012359
CREATED:20240917T144547Z
LAST-MODIFIED:20240917T150729Z
UID:12290-1709942400-1731283199@valdinievoleturismo.it
SUMMARY:Florilegio Italiano – Artists Invite Artists
DESCRIPTION:Until Sunday\, November 10\, 2024\, the Civic Gallery Mo.C.A. – Montecatini Contemporary Art is hosting an exhibition entirely dedicated to contemporary art: Florilegio Italiano – Artists Invite Artists. This showcase features more than fifty works by renowned Italian and international painters and sculptors who\, in response to the project’s invitation\, have donated their works to the city’s civic gallery. \nThe initiative was born in the winter of 2020 with the beginning of a collaboration between the City Administration and Professors Roberto Giovannelli (former professor at the Florence Academy of Fine Arts and Emeritus Academic of the Arts of Drawing)\, Italo Bressan (former professor at the Albertina Academy and Brera Academy of Fine Arts)\, Andrea Granchi (former professor at the Florence Academy of Fine Arts and President of the School of Painting at the Academy of the Arts of Drawing)\, and Gianfranco Notargiacomo (former professor at the Florence and Rome Academies of Fine Arts). \nOver the years\, the professors have invited other artists to join the Florilegio Italiano project and donate a work of art. More than 50 masters have positively responded to this call\, including Luca Alinari\, Gianni Asdrubali\, Ezio Gribaudo\, Riccardo Guarneri\, Paolo Minoli\, Ugo Nespolo\, and Claudio Olivieri. \nFraming the exhibition\, there will be a series of related events such as the publication of a catalogue\, the creation of a film\, and free guided tours\, also available in foreign languages. \nA major contemporary art exhibition\, the beautiful Art Nouveau face of the spa town\, and the enchanting medieval Tuscan scenery offered by its native village\, Montecatini Alto\, create an unmissable cultural proposal. \nFree admission. \nThe exhibition\, initially scheduled to run until Sunday\, September 15\, has been extended until Sunday\, November 10\, 2024. \nOpening hours\nTue-Fri 10 AM – 12 PM\nSat\, Sun\, and holidays 10:30 AM – 12:30 PM and 3:30 PM – 6:30 PM\nMon closed \n\nInfo\nGalleria Civica Mo.C.A. – Montecatini Contemporary Art
URL:https://valdinievoleturismo.it/en/event/florilegio-italiano-artists-invite-artists/
LOCATION:Mo.C.A. – Montecatini Terme Contemporary Art\, Giuseppe Verdi Avenue\, Montecatini Terme\, 51016
ATTACH;FMTTYPE=image/jpeg:https://valdinievoleturismo.it/wp-content/uploads/2024/02/LOW_FLORILEGIO-ITALIANO_Luigi-Boille-Fuoco-nel-silenzio-2002-e1726585454836.jpg
END:VEVENT
BEGIN:VEVENT
DTSTART;VALUE=DATE:20240224
DTEND;VALUE=DATE:20240513
DTSTAMP:20260422T012359
CREATED:20240214T144200Z
LAST-MODIFIED:20240214T172622Z
UID:7201-1708732800-1715558399@valdinievoleturismo.it
SUMMARY:Exhibition. La loggia preziosa
DESCRIPTION:From February 24 to April 21\, exhibition La loggia preziosa at the Museo della Città e del Territorio of Monsummano Terme. \nThe precious furnishings of the Treasure of Maria SS. della Fontenuova will be back on display in the hall on the first floor of the museum. Candelabra\, reliquaries\, embroidered vestments\, liturgical text and important testimonies of the centuries-old devotion will be shown to visitors once again. \nClick here fot the flyer. \nDettails\nSummertime: Mon\, Wed\, Fri 9am-1pm | Tue\, Thu 9am-1pm and 4pm-6pm | Sat 9am-12am\nWintertime: Mon\, Wed\, Fri 9am-1pm | Tue\, Thu 9am-1pm e 3.30pm-5.30pm | Sat 9am-12am\nFree enter.\nThe museum is accessible to visitors with mobility difficulties. \n\nInfo\nMuseo della Città e del Territorio\nmuseoterritorio@comune.monsummano-terme.pt.it\n+39 0572 954463\n+39 0572 959501
URL:https://valdinievoleturismo.it/en/event/exhibition-la-loggia-preziosa-monsummano-terme/
LOCATION:Museo della Città e del Territorio\, Piazza Ferdinando Martini 1\, Monsummano Terme\, 51015
ATTACH;FMTTYPE=image/jpeg:https://valdinievoleturismo.it/wp-content/uploads/2024/02/La-loggia-preziosa-1.jpg
END:VEVENT
BEGIN:VEVENT
DTSTART;VALUE=DATE:20240114
DTEND;VALUE=DATE:20240304
DTSTAMP:20260422T012359
CREATED:20240119T153340Z
LAST-MODIFIED:20240119T153340Z
UID:6491-1705190400-1709510399@valdinievoleturismo.it
SUMMARY:Exhibition: Memoria del dove
DESCRIPTION:From Sunday 14 January to Sunday 3 March\, at CVM VENIO – Casa Studio Galleria\, exhibition Memorie del dove by Mattia Desideri and Davide Vaccaro. \nHuman relationships investigate the new structures of today’s life. These are the thoughts that Davide Vaccaro and Mattia Desideri love to pour into the concept of “space”. This process reveals how the passage of their identity can leave a mark even in the contemporary era. \nDetails\nOpening: Mon-Fri 10am-12.30am and 4pm-7pm| Sunday 5pm-7pm\nFree entry \nInfo\nCVM VENIO – Casa Studio Galleria \nPhoto credit: Davide Vaccaro – Error 5
URL:https://valdinievoleturismo.it/en/event/exhibition-memoria-del-dove/
LOCATION:CUM Venio – Casa Studio Gallery\, Piazza Quattro Martiri 43\, San Rocco\, Larciano\, 51036
ATTACH;FMTTYPE=image/jpeg:https://valdinievoleturismo.it/wp-content/uploads/2024/01/Davide-Vaccaro-Error-5.jpg
END:VEVENT
BEGIN:VEVENT
DTSTART;VALUE=DATE:20231208
DTEND;VALUE=DATE:20240107
DTSTAMP:20260422T012359
CREATED:20231205T110415Z
LAST-MODIFIED:20231205T110415Z
UID:5259-1701993600-1704585599@valdinievoleturismo.it
SUMMARY:A Christmas fairytale in Monsummano Terme
DESCRIPTION:From Friday 8 December to Saturday 6 January\, in Monsummano Terme a calendar full of shows\, performances and music. An opportunity for adults and children to live the holidays. \nIn addition\, on Saturday 9\, Sunday 10 December and Saturday 6 January\, Christmas market\, street food\, kids area\, pony in Piazza Berlinguer. \nFind out more\, click here for the poster. \nInfo\nMonsummano in Festa\n+39 338 7722959 (Eventi) \nTeatro Yves Montand\nteatroyvesmontand@gmail.com+39 339 2863464
URL:https://valdinievoleturismo.it/en/event/a-christmas-fairytale-in-monsummano-terme/
LOCATION:Luoghi vari – Monsummano Terme\, Monsummano Terme\, 51015
ATTACH;FMTTYPE=image/jpeg:https://valdinievoleturismo.it/wp-content/uploads/2023/11/natale-feste-alberto.jpeg
END:VEVENT
BEGIN:VEVENT
DTSTART;VALUE=DATE:20231202
DTEND;VALUE=DATE:20240107
DTSTAMP:20260422T012359
CREATED:20231123T145657Z
LAST-MODIFIED:20231123T145657Z
UID:4819-1701475200-1704585599@valdinievoleturismo.it
SUMMARY:Xmas Dream Montecatini Terme
DESCRIPTION:From Saturday 2 December to Saturday 6 January\, the city of Montecatini Terme celebrates Christmas with a calendar full of events and shows\, in the streets of the city center and in the village of Montecatini Alto. \nLights\, Christmas music and lighting installations in the pine forest will complete the atmosphere. \nClick here to see all the events.\nView the map of the city. \n 
URL:https://valdinievoleturismo.it/en/event/xmas-dream-montecatini-terme/
LOCATION:Montecatini Terme\, Montecatini Terme\, 51016\, Italia
ATTACH;FMTTYPE=image/jpeg:https://valdinievoleturismo.it/wp-content/uploads/2023/11/natale-albero-palline-1.jpg
END:VEVENT
BEGIN:VEVENT
DTSTART;VALUE=DATE:20231125
DTEND;VALUE=DATE:20240128
DTSTAMP:20260422T012359
CREATED:20240119T160306Z
LAST-MODIFIED:20240119T181118Z
UID:6500-1700870400-1706399999@valdinievoleturismo.it
SUMMARY:Donne! Works on Italian Enrico Magnani hand-made paper
DESCRIPTION:From Saturday\, November 25\, to Saturday\, January 27\, at the exhibition hall of the Magnani Historical Archives of the Museo della Carta of Pescia\, Donne! Works on Italian Enrico Magnani hand-made paper of the artist Rossella Baldecchi. \nA selection of engravings\, specially drawn on EMP hand-made paper\, with watercolour retouches\, focused on the representation of the female portrait. The delicacy of the trait\, the insertions of phytomorphic elements\, birds and insects return to the faces an expressive vital force. \nDetails\nOpening: Mon\, Wed\, Sat  10am-6pm (last admission at 5pm\nFree entry \nInfo\nMuseo della Carta\nrelazioniesterne@museodellacarta.org\n+ 39 0572 408432
URL:https://valdinievoleturismo.it/en/event/donne-works-on-italian-enrico-magnani-hand-made-paper/
LOCATION:Museo della Carta di Pescia\, Via Mammianese Nord 229\, Pescia\, 51017
ATTACH;FMTTYPE=image/jpeg:https://valdinievoleturismo.it/wp-content/uploads/2023/11/in-gabbia-ritaglio-rossalle-baldecchi.jpg
END:VEVENT
BEGIN:VEVENT
DTSTART;VALUE=DATE:20231118
DTEND;VALUE=DATE:20240219
DTSTAMP:20260422T012359
CREATED:20231124T175622Z
LAST-MODIFIED:20231124T175622Z
UID:4931-1700265600-1708300799@valdinievoleturismo.it
SUMMARY:Transumano. Greta Bisandola's solo show
DESCRIPTION:The Mac\,n Museo di Arte Contemporanea e del Novecento is pleased to present its new temporary exhibition\, Greta Bisandola‘s solo show Transumano. \nTalented and highly original artist Greta Bisandola deeply investigates the human figure and simultaneously explores the complexity of painting. A visionary universe of creatures\, transformed\, deformed and transfigured in a myriad of brush touches with an incessant and tireless working of the paint material. In the rooms of Villa Renatico Martini a fascinating\, mysterious journey into the dimension of the unconscious. \nExhibition curated by Rocco Normanno will be open until 18 February with free admission. \nThe event is part of the Week against violence against women. \nInfo\nMac\,n – Museo di arte Contemporanea e del ‘900\nmuseoarte@comune.monsummano-terme.pt.it\n+39 0572 952140
URL:https://valdinievoleturismo.it/en/event/transumano-greta-bisandolas-solo-show/
LOCATION:Mac\,n – Museum of Contemporary and 20th Century Art\, 349 Via Gragnano\, Monsummano Terme\, 51015
ATTACH;FMTTYPE=image/jpeg:https://valdinievoleturismo.it/wp-content/uploads/2023/11/Greta-Transumano.jpg
END:VEVENT
BEGIN:VEVENT
DTSTART;VALUE=DATE:20230715
DTEND;VALUE=DATE:20240108
DTSTAMP:20260422T012359
CREATED:20231114T143226Z
LAST-MODIFIED:20231114T143256Z
UID:3937-1689379200-1704671999@valdinievoleturismo.it
SUMMARY:Galileo Chini on display. Works in the Public and Private Collections of Montecatini Terme
DESCRIPTION:Mo.C.A. – Montecatini Terme Contemporary Art is hosting the exhibition Galileo Chini – Works in the Public and Private Collections of Montecatini Terme\, dedicated to the master of Tuscan Art Nouveau. \nThe figure of Galileo Chini is central to the city’s 20th-century cultural history. So many buildings have been embellished by his works that it is no coincidence that he was chosen as the main collaborator for the interior decoration of the Palazzo Comunale\, around 1913. \nThe exhibition investigates the existing relationship between the city and Chini’s works: inside the rooms decorated by the master are his works belonging to public and private city collections\, proving the bond between Montecatini\, the people of Montecatini and the artist. \nThe event is one of the initiatives organized to celebrate the 150th anniversary of the artist’s birth. \nIt will be possible to visit the exhibition until January 7\, 2024.\nFree admission.
URL:https://valdinievoleturismo.it/en/event/galileo-chini-on-display/
LOCATION:Mo.C.A. – Montecatini Terme Contemporary Art\, Giuseppe Verdi Avenue\, Montecatini Terme\, 51016
ATTACH;FMTTYPE=image/jpeg:https://valdinievoleturismo.it/wp-content/uploads/2023/11/MOCA_Montecatini-1.jpg
END:VEVENT
END:VCALENDAR