BEGIN:VCALENDAR
VERSION:2.0
PRODID:-//Valdinievole Turismo - ECPv6.7.1//NONSGML v1.0//EN
CALSCALE:GREGORIAN
METHOD:PUBLISH
X-WR-CALNAME:Valdinievole Turismo
X-ORIGINAL-URL:https://valdinievoleturismo.it/en/
X-WR-CALDESC:Events for Valdinievole Turismo
REFRESH-INTERVAL;VALUE=DURATION:PT1H
X-Robots-Tag:noindex
X-PUBLISHED-TTL:PT1H
BEGIN:VTIMEZONE
TZID:Europe/Rome
BEGIN:DAYLIGHT
TZOFFSETFROM:+0100
TZOFFSETTO:+0200
TZNAME:CEST
DTSTART:20230326T010000
END:DAYLIGHT
BEGIN:STANDARD
TZOFFSETFROM:+0200
TZOFFSETTO:+0100
TZNAME:CET
DTSTART:20231029T010000
END:STANDARD
BEGIN:DAYLIGHT
TZOFFSETFROM:+0100
TZOFFSETTO:+0200
TZNAME:CEST
DTSTART:20240331T010000
END:DAYLIGHT
BEGIN:STANDARD
TZOFFSETFROM:+0200
TZOFFSETTO:+0100
TZNAME:CET
DTSTART:20241027T010000
END:STANDARD
END:VTIMEZONE
BEGIN:VEVENT
DTSTART;VALUE=DATE:20231208
DTEND;VALUE=DATE:20240107
DTSTAMP:20260425T154747
CREATED:20231205T110415Z
LAST-MODIFIED:20231205T110415Z
UID:5259-1701993600-1704585599@valdinievoleturismo.it
SUMMARY:A Christmas fairytale in Monsummano Terme
DESCRIPTION:From Friday 8 December to Saturday 6 January\, in Monsummano Terme a calendar full of shows\, performances and music. An opportunity for adults and children to live the holidays. \nIn addition\, on Saturday 9\, Sunday 10 December and Saturday 6 January\, Christmas market\, street food\, kids area\, pony in Piazza Berlinguer. \nFind out more\, click here for the poster. \nInfo\nMonsummano in Festa\n+39 338 7722959 (Eventi) \nTeatro Yves Montand\nteatroyvesmontand@gmail.com+39 339 2863464
URL:https://valdinievoleturismo.it/en/event/a-christmas-fairytale-in-monsummano-terme/
LOCATION:Luoghi vari – Monsummano Terme\, Monsummano Terme\, 51015
ATTACH;FMTTYPE=image/jpeg:https://valdinievoleturismo.it/wp-content/uploads/2023/11/natale-feste-alberto.jpeg
END:VEVENT
BEGIN:VEVENT
DTSTART;VALUE=DATE:20231202
DTEND;VALUE=DATE:20240107
DTSTAMP:20260425T154747
CREATED:20231123T145657Z
LAST-MODIFIED:20231123T145657Z
UID:4819-1701475200-1704585599@valdinievoleturismo.it
SUMMARY:Xmas Dream Montecatini Terme
DESCRIPTION:From Saturday 2 December to Saturday 6 January\, the city of Montecatini Terme celebrates Christmas with a calendar full of events and shows\, in the streets of the city center and in the village of Montecatini Alto. \nLights\, Christmas music and lighting installations in the pine forest will complete the atmosphere. \nClick here to see all the events.\nView the map of the city. \n 
URL:https://valdinievoleturismo.it/en/event/xmas-dream-montecatini-terme/
LOCATION:Montecatini Terme\, Montecatini Terme\, 51016\, Italia
ATTACH;FMTTYPE=image/jpeg:https://valdinievoleturismo.it/wp-content/uploads/2023/11/natale-albero-palline-1.jpg
END:VEVENT
BEGIN:VEVENT
DTSTART;VALUE=DATE:20231125
DTEND;VALUE=DATE:20240128
DTSTAMP:20260425T154747
CREATED:20240119T160306Z
LAST-MODIFIED:20240119T181118Z
UID:6500-1700870400-1706399999@valdinievoleturismo.it
SUMMARY:Donne! Works on Italian Enrico Magnani hand-made paper
DESCRIPTION:From Saturday\, November 25\, to Saturday\, January 27\, at the exhibition hall of the Magnani Historical Archives of the Museo della Carta of Pescia\, Donne! Works on Italian Enrico Magnani hand-made paper of the artist Rossella Baldecchi. \nA selection of engravings\, specially drawn on EMP hand-made paper\, with watercolour retouches\, focused on the representation of the female portrait. The delicacy of the trait\, the insertions of phytomorphic elements\, birds and insects return to the faces an expressive vital force. \nDetails\nOpening: Mon\, Wed\, Sat  10am-6pm (last admission at 5pm\nFree entry \nInfo\nMuseo della Carta\nrelazioniesterne@museodellacarta.org\n+ 39 0572 408432
URL:https://valdinievoleturismo.it/en/event/donne-works-on-italian-enrico-magnani-hand-made-paper/
LOCATION:Museo della Carta di Pescia\, Via Mammianese Nord 229\, Pescia\, 51017
ATTACH;FMTTYPE=image/jpeg:https://valdinievoleturismo.it/wp-content/uploads/2023/11/in-gabbia-ritaglio-rossalle-baldecchi.jpg
END:VEVENT
BEGIN:VEVENT
DTSTART;VALUE=DATE:20230715
DTEND;VALUE=DATE:20240108
DTSTAMP:20260425T154747
CREATED:20231114T143226Z
LAST-MODIFIED:20231114T143256Z
UID:3937-1689379200-1704671999@valdinievoleturismo.it
SUMMARY:Galileo Chini on display. Works in the Public and Private Collections of Montecatini Terme
DESCRIPTION:Mo.C.A. – Montecatini Terme Contemporary Art is hosting the exhibition Galileo Chini – Works in the Public and Private Collections of Montecatini Terme\, dedicated to the master of Tuscan Art Nouveau. \nThe figure of Galileo Chini is central to the city’s 20th-century cultural history. So many buildings have been embellished by his works that it is no coincidence that he was chosen as the main collaborator for the interior decoration of the Palazzo Comunale\, around 1913. \nThe exhibition investigates the existing relationship between the city and Chini’s works: inside the rooms decorated by the master are his works belonging to public and private city collections\, proving the bond between Montecatini\, the people of Montecatini and the artist. \nThe event is one of the initiatives organized to celebrate the 150th anniversary of the artist’s birth. \nIt will be possible to visit the exhibition until January 7\, 2024.\nFree admission.
URL:https://valdinievoleturismo.it/en/event/galileo-chini-on-display/
LOCATION:Mo.C.A. – Montecatini Terme Contemporary Art\, Giuseppe Verdi Avenue\, Montecatini Terme\, 51016
ATTACH;FMTTYPE=image/jpeg:https://valdinievoleturismo.it/wp-content/uploads/2023/11/MOCA_Montecatini-1.jpg
END:VEVENT
END:VCALENDAR