BEGIN:VCALENDAR
VERSION:2.0
PRODID:-//Valdinievole Turismo - ECPv6.7.1//NONSGML v1.0//EN
CALSCALE:GREGORIAN
METHOD:PUBLISH
X-ORIGINAL-URL:https://valdinievoleturismo.it/en/
X-WR-CALDESC:Events for Valdinievole Turismo
REFRESH-INTERVAL;VALUE=DURATION:PT1H
X-Robots-Tag:noindex
X-PUBLISHED-TTL:PT1H
BEGIN:VTIMEZONE
TZID:Europe/Rome
BEGIN:DAYLIGHT
TZOFFSETFROM:+0100
TZOFFSETTO:+0200
TZNAME:CEST
DTSTART:20240331T010000
END:DAYLIGHT
BEGIN:STANDARD
TZOFFSETFROM:+0200
TZOFFSETTO:+0100
TZNAME:CET
DTSTART:20241027T010000
END:STANDARD
END:VTIMEZONE
BEGIN:VEVENT
DTSTART;VALUE=DATE:20240309
DTEND;VALUE=DATE:20241111
DTSTAMP:20260423T004713
CREATED:20240917T144547Z
LAST-MODIFIED:20240917T150729Z
UID:12290-1709942400-1731283199@valdinievoleturismo.it
SUMMARY:Florilegio Italiano – Artists Invite Artists
DESCRIPTION:Until Sunday\, November 10\, 2024\, the Civic Gallery Mo.C.A. – Montecatini Contemporary Art is hosting an exhibition entirely dedicated to contemporary art: Florilegio Italiano – Artists Invite Artists. This showcase features more than fifty works by renowned Italian and international painters and sculptors who\, in response to the project’s invitation\, have donated their works to the city’s civic gallery. \nThe initiative was born in the winter of 2020 with the beginning of a collaboration between the City Administration and Professors Roberto Giovannelli (former professor at the Florence Academy of Fine Arts and Emeritus Academic of the Arts of Drawing)\, Italo Bressan (former professor at the Albertina Academy and Brera Academy of Fine Arts)\, Andrea Granchi (former professor at the Florence Academy of Fine Arts and President of the School of Painting at the Academy of the Arts of Drawing)\, and Gianfranco Notargiacomo (former professor at the Florence and Rome Academies of Fine Arts). \nOver the years\, the professors have invited other artists to join the Florilegio Italiano project and donate a work of art. More than 50 masters have positively responded to this call\, including Luca Alinari\, Gianni Asdrubali\, Ezio Gribaudo\, Riccardo Guarneri\, Paolo Minoli\, Ugo Nespolo\, and Claudio Olivieri. \nFraming the exhibition\, there will be a series of related events such as the publication of a catalogue\, the creation of a film\, and free guided tours\, also available in foreign languages. \nA major contemporary art exhibition\, the beautiful Art Nouveau face of the spa town\, and the enchanting medieval Tuscan scenery offered by its native village\, Montecatini Alto\, create an unmissable cultural proposal. \nFree admission. \nThe exhibition\, initially scheduled to run until Sunday\, September 15\, has been extended until Sunday\, November 10\, 2024. \nOpening hours\nTue-Fri 10 AM – 12 PM\nSat\, Sun\, and holidays 10:30 AM – 12:30 PM and 3:30 PM – 6:30 PM\nMon closed \n\nInfo\nGalleria Civica Mo.C.A. – Montecatini Contemporary Art
URL:https://valdinievoleturismo.it/en/event/florilegio-italiano-artists-invite-artists/
LOCATION:Mo.C.A. – Montecatini Terme Contemporary Art\, Giuseppe Verdi Avenue\, Montecatini Terme\, 51016
ATTACH;FMTTYPE=image/jpeg:https://valdinievoleturismo.it/wp-content/uploads/2024/02/LOW_FLORILEGIO-ITALIANO_Luigi-Boille-Fuoco-nel-silenzio-2002-e1726585454836.jpg
END:VEVENT
BEGIN:VEVENT
DTSTART;VALUE=DATE:20240519
DTEND;VALUE=DATE:20241125
DTSTAMP:20260423T004713
CREATED:20240917T145047Z
LAST-MODIFIED:20241018T103545Z
UID:12292-1716076800-1732492799@valdinievoleturismo.it
SUMMARY:Territory on Display: A Thirty-Year History
DESCRIPTION:Until Sunday\, November 24\, 2024\, at the Museum of the City and Territory in Monsummano Terme\, discover Territory on Display: A Thirty-Year History\, an exhibition curated by Giuseppina Carla Romby. \nThe exhibition highlights the milestones of a research journey conducted in the local area\, also involving archival sources. Understanding the past is crucial to comprehend the changes in our land over the centuries\, future improvements\, and who we are today. \nClick here for the poster. \nDetails\nSummer hours: Mon\, Wed\, Fri 9 AM – 1 PM | Wed\, Thu 9 AM – 1 PM and 4 PM – 6 PM | Sat 9 AM – 12 PM\nWinter hours: Mon\, Wed\, Fri 9 AM – 1 PM | Wed\, Thu 9 AM – 1 PM and 3:30 PM – 5:30 PM | Sat 9 AM – 12 PM \nThe exhibition and events are free and open to the public.\nAll events will be followed by a visit to the exhibition.\nThe museum is accessible to visitors with mobility difficulties. \nInfo\nMuseo della città e del territorio\nmuseoterritorio@comune.monsummano-terme.pt.it\n+39 0572 95446
URL:https://valdinievoleturismo.it/en/event/territory-on-display-a-thirty-year-history/
LOCATION:Museo della Città e del Territorio\, Piazza Ferdinando Martini 1\, Monsummano Terme\, 51015
ATTACH;FMTTYPE=image/jpeg:https://valdinievoleturismo.it/wp-content/uploads/2024/05/territorio-mostra.jpg
END:VEVENT
END:VCALENDAR