BEGIN:VCALENDAR
VERSION:2.0
PRODID:-//Valdinievole Turismo - ECPv6.7.1//NONSGML v1.0//EN
CALSCALE:GREGORIAN
METHOD:PUBLISH
X-ORIGINAL-URL:https://valdinievoleturismo.it/en/
X-WR-CALDESC:Events for Valdinievole Turismo
REFRESH-INTERVAL;VALUE=DURATION:PT1H
X-Robots-Tag:noindex
X-PUBLISHED-TTL:PT1H
BEGIN:VTIMEZONE
TZID:Europe/Rome
BEGIN:DAYLIGHT
TZOFFSETFROM:+0100
TZOFFSETTO:+0200
TZNAME:CEST
DTSTART:20230326T010000
END:DAYLIGHT
BEGIN:STANDARD
TZOFFSETFROM:+0200
TZOFFSETTO:+0100
TZNAME:CET
DTSTART:20231029T010000
END:STANDARD
BEGIN:DAYLIGHT
TZOFFSETFROM:+0100
TZOFFSETTO:+0200
TZNAME:CEST
DTSTART:20240331T010000
END:DAYLIGHT
BEGIN:STANDARD
TZOFFSETFROM:+0200
TZOFFSETTO:+0100
TZNAME:CET
DTSTART:20241027T010000
END:STANDARD
END:VTIMEZONE
BEGIN:VEVENT
DTSTART;VALUE=DATE:20231118
DTEND;VALUE=DATE:20240219
DTSTAMP:20260426T015953
CREATED:20231124T175622Z
LAST-MODIFIED:20231124T175622Z
UID:4931-1700265600-1708300799@valdinievoleturismo.it
SUMMARY:Transumano. Greta Bisandola's solo show
DESCRIPTION:The Mac\,n Museo di Arte Contemporanea e del Novecento is pleased to present its new temporary exhibition\, Greta Bisandola‘s solo show Transumano. \nTalented and highly original artist Greta Bisandola deeply investigates the human figure and simultaneously explores the complexity of painting. A visionary universe of creatures\, transformed\, deformed and transfigured in a myriad of brush touches with an incessant and tireless working of the paint material. In the rooms of Villa Renatico Martini a fascinating\, mysterious journey into the dimension of the unconscious. \nExhibition curated by Rocco Normanno will be open until 18 February with free admission. \nThe event is part of the Week against violence against women. \nInfo\nMac\,n – Museo di arte Contemporanea e del ‘900\nmuseoarte@comune.monsummano-terme.pt.it\n+39 0572 952140
URL:https://valdinievoleturismo.it/en/event/transumano-greta-bisandolas-solo-show/
LOCATION:Mac\,n – Museum of Contemporary and 20th Century Art\, 349 Via Gragnano\, Monsummano Terme\, 51015
ATTACH;FMTTYPE=image/jpeg:https://valdinievoleturismo.it/wp-content/uploads/2023/11/Greta-Transumano.jpg
END:VEVENT
BEGIN:VEVENT
DTSTART;VALUE=DATE:20231125
DTEND;VALUE=DATE:20240128
DTSTAMP:20260426T015953
CREATED:20240119T160306Z
LAST-MODIFIED:20240119T181118Z
UID:6500-1700870400-1706399999@valdinievoleturismo.it
SUMMARY:Donne! Works on Italian Enrico Magnani hand-made paper
DESCRIPTION:From Saturday\, November 25\, to Saturday\, January 27\, at the exhibition hall of the Magnani Historical Archives of the Museo della Carta of Pescia\, Donne! Works on Italian Enrico Magnani hand-made paper of the artist Rossella Baldecchi. \nA selection of engravings\, specially drawn on EMP hand-made paper\, with watercolour retouches\, focused on the representation of the female portrait. The delicacy of the trait\, the insertions of phytomorphic elements\, birds and insects return to the faces an expressive vital force. \nDetails\nOpening: Mon\, Wed\, Sat  10am-6pm (last admission at 5pm\nFree entry \nInfo\nMuseo della Carta\nrelazioniesterne@museodellacarta.org\n+ 39 0572 408432
URL:https://valdinievoleturismo.it/en/event/donne-works-on-italian-enrico-magnani-hand-made-paper/
LOCATION:Museo della Carta di Pescia\, Via Mammianese Nord 229\, Pescia\, 51017
ATTACH;FMTTYPE=image/jpeg:https://valdinievoleturismo.it/wp-content/uploads/2023/11/in-gabbia-ritaglio-rossalle-baldecchi.jpg
END:VEVENT
END:VCALENDAR